BEGIN:VCALENDAR
VERSION:2.0
PRODID:-//ABRACAM - ECPv6.2.0//NONSGML v1.0//EN
CALSCALE:GREGORIAN
METHOD:PUBLISH
X-ORIGINAL-URL:https://abracam.com
X-WR-CALDESC:Eventos para ABRACAM
REFRESH-INTERVAL;VALUE=DURATION:PT1H
X-Robots-Tag:noindex
X-PUBLISHED-TTL:PT1H
BEGIN:VTIMEZONE
TZID:America/Sao_Paulo
BEGIN:STANDARD
TZOFFSETFROM:-0300
TZOFFSETTO:-0300
TZNAME:-03
DTSTART:20250101T000000
END:STANDARD
END:VTIMEZONE
BEGIN:VEVENT
DTSTART;TZID=America/Sao_Paulo:20251008T083000
DTEND;TZID=America/Sao_Paulo:20251008T180000
DTSTAMP:20260421T073912
CREATED:20250916T132309Z
LAST-MODIFIED:20250918T185236Z
UID:10000038-1759912200-1759946400@abracam.com
SUMMARY:Encontro Regional Tríplice Fronteira | Foz do Iguaçu
DESCRIPTION:Clique aqui e inscreva-se.\n\n\n\nDia 8 de outubro acontecerá o Encontro Regional Tríplice Fronteira | Foz do Iguaçu. \nO evento será presencial e contará com a participação de autoridades dos setores públicos e privados dos três países para discutir e debater sobre Prevenção à Lavagem de Dinheiro\, com participação de representantes de Especialistas em Câmbio na região fronteiriça. \n\n \nEste evento é uma parceria com o Departamento de Contraterrorismo dos Estados Unidos\, por intermédio da American Bar Association e GovRisk.\n\n\n\nEVENTO PRESENCIAL GRATUITO – VAGAS LIMITADAS\n \nData: 08/10/2025 \n\n\n\nHorário: 08h30 às 18h00\n\nLocal: Sala  Porto Madero (Viale Hotéis) \nEndereço: Av. Jorge Schimmelpfeng\, 232 – Foz do Iguaçu – PR\, Brasil \n\n\n\nClique aqui e inscreva-se.\n 
URL:https://abracam.com/encontro-regional-triplice-fronteira-foz-do-iguacu
LOCATION:Viale Hotéris – Foz do Iguaçu\, Av. Jorge Schimmelpfeng\, 232 - Foz do Iguaçu – PR\, Brasil\, Foz do Iguaçu
CATEGORIES:Presencial
ATTACH;FMTTYPE=image/png:https://abracam.com/wp-content/uploads/2025/09/Evento-PPP-TRIPLICE-1080-x-800-px-4.png
ORGANIZER;CN="ABRACAM":MAILTO:abracam@abracam.com
END:VEVENT
END:VCALENDAR