BEGIN:VCALENDAR
VERSION:2.0
PRODID:-//ABRACAM - ECPv6.2.0//NONSGML v1.0//EN
CALSCALE:GREGORIAN
METHOD:PUBLISH
X-WR-CALNAME:ABRACAM
X-ORIGINAL-URL:https://abracam.com
X-WR-CALDESC:Eventos para ABRACAM
REFRESH-INTERVAL;VALUE=DURATION:PT1H
X-Robots-Tag:noindex
X-PUBLISHED-TTL:PT1H
BEGIN:VTIMEZONE
TZID:America/Sao_Paulo
BEGIN:STANDARD
TZOFFSETFROM:-0300
TZOFFSETTO:-0300
TZNAME:-03
DTSTART:20240101T000000
END:STANDARD
END:VTIMEZONE
BEGIN:VEVENT
DTSTART;TZID=America/Sao_Paulo:20240318T163000
DTEND;TZID=America/Sao_Paulo:20240318T183000
DTSTAMP:20260423T045735
CREATED:20240222T201450Z
LAST-MODIFIED:20240222T205829Z
UID:10000009-1710779400-1710786600@abracam.com
SUMMARY:Lançamento do Livro - ABRACAM & TozziniFreire Advogados
DESCRIPTION:Clique aqui e inscreva-se
URL:https://abracam.com/evento/lancamento-do-livro-abracam-tozzinifreire-advogados/
LOCATION:TozziniFreire Advogados\, R. Borges Lagoa\, 1328 - Vila Clementino\, São Paulo - SP\, São Paulo - SP\, 04038-004
ATTACH;FMTTYPE=image/png:https://abracam.com/wp-content/uploads/2024/02/TozziniFreire_Prancheta-1.png
ORGANIZER;CN="ABRACAM":MAILTO:abracam@abracam.com
END:VEVENT
END:VCALENDAR