BEGIN:VCALENDAR
VERSION:2.0
PRODID:-//ABRACAM - ECPv6.2.0//NONSGML v1.0//EN
CALSCALE:GREGORIAN
METHOD:PUBLISH
X-WR-CALNAME:ABRACAM
X-ORIGINAL-URL:https://abracam.com
X-WR-CALDESC:Eventos para ABRACAM
REFRESH-INTERVAL;VALUE=DURATION:PT1H
X-Robots-Tag:noindex
X-PUBLISHED-TTL:PT1H
BEGIN:VTIMEZONE
TZID:America/Sao_Paulo
BEGIN:STANDARD
TZOFFSETFROM:-0300
TZOFFSETTO:-0300
TZNAME:-03
DTSTART:20260101T000000
END:STANDARD
END:VTIMEZONE
BEGIN:VEVENT
DTSTART;TZID=America/Sao_Paulo:20260428T170000
DTEND;TZID=America/Sao_Paulo:20260428T180000
DTSTAMP:20260421T091355
CREATED:20260417T151737Z
LAST-MODIFIED:20260417T151737Z
UID:10000055-1777395600-1777399200@abracam.com
SUMMARY:Palestra - Combate à Fraude e Aliciamento de Colaboradores
DESCRIPTION:Inscreva-se\nNeste webinar\, serão abordados aspectos práticos relacionados ao combate à fraude e ao aliciamento de colaboradores\, analisando como essas situações se desenvolvem dentro das organizações e quais são os principais mecanismos utilizados\, com o objetivo de fortalecer a prevenção\, a conscientização e a mitigação de riscos no ambiente corporativo. \nWEBINAR EXCLUSIVO PARA ASSOCIADOS \nData: 28/04/2026\nHorário: 17h00 \nPresencial ou on-line. \nPalestrante: \n\nPablo Colombres\n\nPablo atua há mais de 20 anos no segmento de investigação e repressão a fraudes corporativas. É advogado formado pela Universidade de Buenos Aires e possui mestrado em Administração de Justiça e Segurança pela University of Phoenix\, nos Estados Unidos. Atualmente\, é CEO da GIF International\, empresa que atua no combate a fraudes na América Latina. \nA ABRACAM declara que as opiniões e informações compartilhadas durante os webinars não refletem necessariamente suas próprias opiniões ou posições institucionais. \nInscreva-se
URL:https://abracam.com/palestra-combate-a-fraude-e-aliciamento-de-colaboradores
LOCATION:Sede da ABRACAM\, Av Paulista\, 2444\, São Paulo\, SP\, 01310-300\, Brazil
CATEGORIES:Online,Presencial
ATTACH;FMTTYPE=image/png:https://abracam.com/wp-content/uploads/2026/04/Banner-site-institucional-3.png
ORGANIZER;CN="ABRACAM":MAILTO:abracam@abracam.com
END:VEVENT
END:VCALENDAR