BEGIN:VCALENDAR
VERSION:2.0
PRODID:-//ABRACAM - ECPv6.2.0//NONSGML v1.0//EN
CALSCALE:GREGORIAN
METHOD:PUBLISH
X-WR-CALNAME:ABRACAM
X-ORIGINAL-URL:https://abracam.com
X-WR-CALDESC:Eventos para ABRACAM
REFRESH-INTERVAL;VALUE=DURATION:PT1H
X-Robots-Tag:noindex
X-PUBLISHED-TTL:PT1H
BEGIN:VTIMEZONE
TZID:America/Sao_Paulo
BEGIN:STANDARD
TZOFFSETFROM:-0300
TZOFFSETTO:-0300
TZNAME:-03
DTSTART:20260101T000000
END:STANDARD
END:VTIMEZONE
BEGIN:VEVENT
DTSTART;TZID=America/Sao_Paulo:20260115T153000
DTEND;TZID=America/Sao_Paulo:20260115T163000
DTSTAMP:20260421T090351
CREATED:20260108T144755Z
LAST-MODIFIED:20260108T144836Z
UID:10000045-1768491000-1768494600@abracam.com
SUMMARY:Webinar | Carta de Crédito Publicação - UCP 600
DESCRIPTION:Clique aqui e inscreva-se.\n\nWebinar – Nova metodologia para o cálculo do Capital Mínimo: Resolução Conjunta CMN/BCB 14/2025\n\n  \n\nO Webinar Carta de Crédito – Publicação UCP 600 tem como objetivo capacitar os participantes a compreender\, analisar e operar corretamente as cartas de crédito documentárias\, com base nas regras da Publicação 600 da Câmara de Comércio Internacional (ICC)\, amplamente utilizadas nas operações de comércio exterior. \n  \nDurante o evento\, serão abordados os principais conceitos\, regras e práticas relacionadas à utilização da carta de crédito como instrumento de pagamento internacional\, destacando sua importância na mitigação de riscos operacionais\, financeiros e regulatórios nas transações internacionais de mercadorias. \nWEBINAR ABERTO AO PÚBLICO \n\nData: 15/01/2026\n\nHorário: 15h30\n\n\nPalestrantes:\n\nSamir Keedi – Mestre em Administração e especialista em comércio exterior.\n\n\nClique aqui e inscreva-se.\n 
URL:https://abracam.com/webinar-carta-de-credito-publicacao-ucp-600
LOCATION:Sede da ABRACAM\, Av Paulista\, 2444\, São Paulo\, SP\, 01310-300\, Brazil
CATEGORIES:Online
ATTACH;FMTTYPE=image/png:https://abracam.com/wp-content/uploads/2026/01/Banner-site-institucional-1.png
ORGANIZER;CN="ABRACAM":MAILTO:abracam@abracam.com
END:VEVENT
BEGIN:VEVENT
DTSTART;TZID=America/Sao_Paulo:20260120T090000
DTEND;TZID=America/Sao_Paulo:20260120T100000
DTSTAMP:20260421T090351
CREATED:20251205T192003Z
LAST-MODIFIED:20251210T151007Z
UID:10000044-1768899600-1768903200@abracam.com
SUMMARY:Palestra Presencial: Transformação e Desafios: Os Impactos da Resolução Conjunta nº14/2025 nos Modelos de Negócio atuais
DESCRIPTION:Clique aqui e inscreva-se.\n\nWebinar – Nova metodologia para o cálculo do Capital Mínimo: Resolução Conjunta CMN/BCB 14/2025\n\nPalestrante: \nMárcio Vellani da Silva – Diretor de Produtos e Desenvolvimento de Sistemas na Finaudtec e Mestre em Controladoria e Finanças pela FIPECAFI. Com mais de 20 anos de atuação no mercado financeiro\, acumula passagens pela KPMG e Itaú Unibanco. É especialista em Regulação Bancária\, Acordo de Basileia e Auditoria\, liderando atualmente equipes focadas em tecnologia para apuração de riscos e compliance no Sistema Financeiro Nacional. \n\n\n\nEVENTO PRESENCIAL GRATUITO – VAGAS LIMITADAS\nData: 10/12/2025 \n\n\n\nHorário: 16h30\n\nOn-line exclusivo para Associados ABRACAM \n\n\n\nClique aqui e inscreva-se.\n 
URL:https://abracam.com/palestra-presencial%3A-transformacao-e-desafios%3A-os-impactos-da-resolucao-conjunta-no14/2025
LOCATION:Sede da ABRACAM\, Av Paulista\, 2444\, São Paulo\, SP\, 01310-300\, Brazil
CATEGORIES:Online
ATTACH;FMTTYPE=image/png:https://abracam.com/wp-content/uploads/2025/12/palestra.png
ORGANIZER;CN="ABRACAM":MAILTO:abracam@abracam.com
END:VEVENT
BEGIN:VEVENT
DTSTART;TZID=America/Sao_Paulo:20260123T153000
DTEND;TZID=America/Sao_Paulo:20260123T163000
DTSTAMP:20260421T090351
CREATED:20260109T183815Z
LAST-MODIFIED:20260109T183815Z
UID:10000046-1769182200-1769185800@abracam.com
SUMMARY:Webinar - Aprendendo a calcular e utilizar o EBIDTA
DESCRIPTION:Clique aqui e inscreva-se.\n\nWebinar – Aprendendo a calcular e utilizar o EBIDTA\n\n  \n\n\nEste webinar tem como objetivo apresentar\, de forma prática e objetiva\, o conceito de EBITDA\, explicando como calculá-lo corretamente e como utilizá-lo como ferramenta de análise financeira. Os participantes irão compreender as diferenças entre EBITDA\, lucro operacional e lucro líquido\, conhecer os principais ajustes e limitações do indicador e aprender a aplicá-lo na avaliação do desempenho operacional das empresas. O conteúdo é voltado ao apoio da tomada de decisões gerenciais\, financeiras e estratégicas\, incluindo análises de crédito\, comparação entre negócios e negociações corporativas.   \nWEBINAR ABERTO AO PÚBLICO \n\nData: 23/01/2026\n\nHorário: 15h30\n\n\nPalestrante:\n\n\n\n\nTadashi Yamashita – Consultor da AGK Corretora de Câmbio S.A \n\n\n\n\nA ABRACAM declara que as opiniões e informações compartilhadas durante os webinars não refletem necessariamente suas próprias opiniões ou posições institucionais.\n\n\nClique aqui e inscreva-se.\n 
URL:https://abracam.com/webinar-aprendendo-a-calcular-e-utilizar-o-ebidta
LOCATION:Sede da ABRACAM\, Av Paulista\, 2444\, São Paulo\, SP\, 01310-300\, Brazil
CATEGORIES:Online
ATTACH;FMTTYPE=image/png:https://abracam.com/wp-content/uploads/2026/01/Banner-site-institucional-1-1.png
ORGANIZER;CN="ABRACAM":MAILTO:abracam@abracam.com
END:VEVENT
BEGIN:VEVENT
DTSTART;TZID=America/Sao_Paulo:20260212T153000
DTEND;TZID=America/Sao_Paulo:20260212T163000
DTSTAMP:20260421T090351
CREATED:20260210T205508Z
LAST-MODIFIED:20260210T205638Z
UID:10000048-1770910200-1770913800@abracam.com
SUMMARY:Webinar - Incoterms
DESCRIPTION:Clique aqui e inscreva-se.\n\n\nWebinar – Incoterms: as responsabilidades do comprador e do vendedor em operações de comércio exterior\, regras internacionais.\n\n\n\nNeste webinar\, você vai entender o que são os Incoterms (International Commercial Terms) e qual é a sua importância nas operações de comércio exterior. Serão apresentados os principais conceitos\, responsabilidades do comprador e do vendedor\, além dos impactos dos Incoterms na negociação\, nos custos e na gestão de riscos das operações internacionais. \n  \nWEBINAR ABERTO AO PÚBLICO \n\nData: 12/02/2026\n\nHorário: 15h30\n\n\nPalestrante:\n\nSamir Keedi – Mestre em Administração e especialista em comércio exterior \n\nA ABRACAM declara que as opiniões e informações compartilhadas durante os webinars não refletem necessariamente suas próprias opiniões ou posições institucionais.\n\n\n\n\nClique aqui e inscreva-se.\n 
URL:https://abracam.com/webinar-incoterms
LOCATION:Sede da ABRACAM\, Av Paulista\, 2444\, São Paulo\, SP\, 01310-300\, Brazil
CATEGORIES:Online
ATTACH;FMTTYPE=image/png:https://abracam.com/wp-content/uploads/2026/02/Banner-site-institucional-2-1.png
ORGANIZER;CN="ABRACAM":MAILTO:abracam@abracam.com
END:VEVENT
END:VCALENDAR